BEGIN:VCALENDAR
VERSION:2.0
PRODID:icalendar-ruby
CALSCALE:GREGORIAN
BEGIN:VEVENT
DTSTAMP:20260422T092605Z
UID:a49bded0-d4ac-44f8-96e8-3f3cd3fa9c03
DTSTART;VALUE=DATE:20200324
DESCRIPTION:Property ID# 474370\, Locatoin: Motion Entertainment\, 346 Te N
 gae Road\, Rotorua\, Time: 1:00PM
SUMMARY:Auction for 
END:VEVENT
END:VCALENDAR
