BEGIN:VCALENDAR
VERSION:2.0
PRODID:icalendar-ruby
CALSCALE:GREGORIAN
BEGIN:VEVENT
DTSTAMP:20260424T093512Z
UID:5cdeddcd-e260-4b79-8e1f-6b86c562d294
DTSTART;VALUE=DATE:20210317
DESCRIPTION:Property ID# 502192\, Locatoin: On-site 90 Grant Road\, Opotiki
 \, Time: 1:00PM
SUMMARY:Auction for 
END:VEVENT
END:VCALENDAR
