BEGIN:VCALENDAR
VERSION:2.0
PRODID:icalendar-ruby
CALSCALE:GREGORIAN
BEGIN:VEVENT
DTSTAMP:20260422T092605Z
UID:ae47d92d-0c7c-4ca1-99ea-f968b43fb0a2
DTSTART;VALUE=DATE:20220210
DESCRIPTION:Property ID# 525176\, Time: 12:00PM
SUMMARY:Auction for 
END:VEVENT
END:VCALENDAR
