BEGIN:VCALENDAR
VERSION:2.0
PRODID:icalendar-ruby
CALSCALE:GREGORIAN
BEGIN:VEVENT
DTSTAMP:20260422T094114Z
UID:ef215a04-025b-4442-b9d3-c8ca1c7382ba
DTSTART;VALUE=DATE:20221102
DESCRIPTION:Property ID# 544757\, Time: 12:00PM
SUMMARY:Auction for 
END:VEVENT
END:VCALENDAR
