BEGIN:VCALENDAR
VERSION:2.0
PRODID:icalendar-ruby
CALSCALE:GREGORIAN
BEGIN:VEVENT
DTSTAMP:20260422T093918Z
UID:9b6efd49-5768-4fb4-9265-c902f95127de
DTSTART;VALUE=DATE:20240821
DESCRIPTION:Property ID# 578577\, Locatoin: on site 18 Bryan Road\, Waiotah
 i\, Time: 1:00PM
SUMMARY:Auction for 
END:VEVENT
END:VCALENDAR
