BEGIN:VCALENDAR
VERSION:2.0
PRODID:icalendar-ruby
CALSCALE:GREGORIAN
BEGIN:VEVENT
DTSTAMP:20260420T070500Z
UID:0ca3ee2e-8298-43aa-9d01-78d0ba470b83
DTSTART;VALUE=DATE:20251216
DESCRIPTION:Property ID# 600092\, Time: 2:00PM
SUMMARY:Auction for 
END:VEVENT
END:VCALENDAR
