BEGIN:VCALENDAR
VERSION:2.0
PRODID:icalendar-ruby
CALSCALE:GREGORIAN
BEGIN:VEVENT
DTSTAMP:20260420T132808Z
UID:f3b2affa-cabb-4994-8fbf-6e9cbe4e45d9
DTSTART;VALUE=DATE:20260402
DESCRIPTION:Property ID# 601626\, Locatoin: Tremains Rotorua Office 1127 Fe
 nton Street\, Time: 12:00PM
SUMMARY:Auction for 124 Mallard Drive
END:VEVENT
END:VCALENDAR
